BEGIN:VCALENDAR
VERSION:2.0
PRODID:-//PhotoTrainer - ECPv6.15.20//NONSGML v1.0//EN
CALSCALE:GREGORIAN
METHOD:PUBLISH
X-WR-CALNAME:PhotoTrainer
X-ORIGINAL-URL:https://phototrainer.com
X-WR-CALDESC:Events for PhotoTrainer
REFRESH-INTERVAL;VALUE=DURATION:PT1H
X-Robots-Tag:noindex
X-PUBLISHED-TTL:PT1H
BEGIN:VTIMEZONE
TZID:America/Los_Angeles
BEGIN:DAYLIGHT
TZOFFSETFROM:-0800
TZOFFSETTO:-0700
TZNAME:PDT
DTSTART:20240310T100000
END:DAYLIGHT
BEGIN:STANDARD
TZOFFSETFROM:-0700
TZOFFSETTO:-0800
TZNAME:PST
DTSTART:20241103T090000
END:STANDARD
BEGIN:DAYLIGHT
TZOFFSETFROM:-0800
TZOFFSETTO:-0700
TZNAME:PDT
DTSTART:20250309T100000
END:DAYLIGHT
BEGIN:STANDARD
TZOFFSETFROM:-0700
TZOFFSETTO:-0800
TZNAME:PST
DTSTART:20251102T090000
END:STANDARD
BEGIN:DAYLIGHT
TZOFFSETFROM:-0800
TZOFFSETTO:-0700
TZNAME:PDT
DTSTART:20260308T100000
END:DAYLIGHT
BEGIN:STANDARD
TZOFFSETFROM:-0700
TZOFFSETTO:-0800
TZNAME:PST
DTSTART:20261101T090000
END:STANDARD
END:VTIMEZONE
BEGIN:VEVENT
DTSTART;TZID=America/Los_Angeles:20250201T093000
DTEND;TZID=America/Los_Angeles:20250201T153000
DTSTAMP:20260423T192619
CREATED:20241112T154531Z
LAST-MODIFIED:20241112T154531Z
UID:1634-1738402200-1738423800@phototrainer.com
SUMMARY:Better iPhone
DESCRIPTION:
URL:https://phototrainer.com/event/better-iphone-3/
CATEGORIES:Better iPhone Photos
ATTACH;FMTTYPE=image/jpeg:https://phototrainer.com/wp-content/uploads/2024/01/Cheese-tray-Casa-Mc-IMG_1433.jpg
END:VEVENT
BEGIN:VEVENT
DTSTART;TZID=America/Los_Angeles:20250208T090000
DTEND;TZID=America/Los_Angeles:20250208T160000
DTSTAMP:20260423T192619
CREATED:20241119T055344Z
LAST-MODIFIED:20241119T055516Z
UID:1639-1739005200-1739030400@phototrainer.com
SUMMARY:DSLR/M Camera Jumpstart
DESCRIPTION:DSLR/M Camera Jumpstart Class\n$233 (18% Holiday Discount!) $190
URL:https://phototrainer.com/event/dslr-m-jumpstart-3/
CATEGORIES:DSLR/M Camera Jumpstart
ATTACH;FMTTYPE=image/jpeg:https://phototrainer.com/wp-content/uploads/2024/10/Egret_0782_on_blue__2400px_-.jpg
END:VEVENT
BEGIN:VEVENT
DTSTART;TZID=America/Los_Angeles:20250226T193000
DTEND;TZID=America/Los_Angeles:20250226T203000
DTSTAMP:20260423T192619
CREATED:20240910T062822Z
LAST-MODIFIED:20240910T063914Z
UID:1438-1740598200-1740601800@phototrainer.com
SUMMARY:A Little Help! -  PT Alumni Only
DESCRIPTION:A Little Help is a place for you to visit with me and others in person on Zoom. It is Free to Alumni\,\nShare some images\, victories\, defeats\, frustrations or anything photographic. ~Tom\nFourth Wednesday of the Month. 7:30 to 8:30pm. Pacific Time.\nJoin Zoom Meeting https://us05web.zoom.us/j/87803752141?pwd=eThQWjU1SjJVcmZkakZhMlV2YkpWQT09\nMeeting ID: 878 0375 2141 Passcode: 2DHCAM\nSAVE the Link\, Reserve a spot
URL:https://phototrainer.com/event/a-little-help-5/
CATEGORIES:A Little Help
ATTACH;FMTTYPE=image/jpeg:https://phototrainer.com/wp-content/uploads/2024/01/Tom-on-Green-Wall_sm.jpg
END:VEVENT
END:VCALENDAR