BEGIN:VCALENDAR
VERSION:2.0
PRODID:-//PhotoTrainer - ECPv6.15.20//NONSGML v1.0//EN
CALSCALE:GREGORIAN
METHOD:PUBLISH
X-ORIGINAL-URL:https://phototrainer.com
X-WR-CALDESC:Events for PhotoTrainer
REFRESH-INTERVAL;VALUE=DURATION:PT1H
X-Robots-Tag:noindex
X-PUBLISHED-TTL:PT1H
BEGIN:VTIMEZONE
TZID:America/Los_Angeles
BEGIN:DAYLIGHT
TZOFFSETFROM:-0800
TZOFFSETTO:-0700
TZNAME:PDT
DTSTART:20240310T100000
END:DAYLIGHT
BEGIN:STANDARD
TZOFFSETFROM:-0700
TZOFFSETTO:-0800
TZNAME:PST
DTSTART:20241103T090000
END:STANDARD
BEGIN:DAYLIGHT
TZOFFSETFROM:-0800
TZOFFSETTO:-0700
TZNAME:PDT
DTSTART:20250309T100000
END:DAYLIGHT
BEGIN:STANDARD
TZOFFSETFROM:-0700
TZOFFSETTO:-0800
TZNAME:PST
DTSTART:20251102T090000
END:STANDARD
BEGIN:DAYLIGHT
TZOFFSETFROM:-0800
TZOFFSETTO:-0700
TZNAME:PDT
DTSTART:20260308T100000
END:DAYLIGHT
BEGIN:STANDARD
TZOFFSETFROM:-0700
TZOFFSETTO:-0800
TZNAME:PST
DTSTART:20261101T090000
END:STANDARD
END:VTIMEZONE
BEGIN:VEVENT
DTSTART;TZID=America/Los_Angeles:20250315T090000
DTEND;TZID=America/Los_Angeles:20250315T160000
DTSTAMP:20260423T174712
CREATED:20250304T193414Z
LAST-MODIFIED:20250304T193414Z
UID:1890-1742029200-1742054400@phototrainer.com
SUMMARY:Learn Portraiture Lighting
DESCRIPTION:Learn Portraiture Lighting
URL:https://phototrainer.com/event/learn-portraiture-lighting-3/
END:VEVENT
BEGIN:VEVENT
DTSTART;TZID=America/Los_Angeles:20250322T093000
DTEND;TZID=America/Los_Angeles:20250322T163000
DTSTAMP:20260423T174712
CREATED:20250304T233927Z
LAST-MODIFIED:20250304T233927Z
UID:1897-1742635800-1742661000@phototrainer.com
SUMMARY:Better iPhone Photo Class
DESCRIPTION:
URL:https://phototrainer.com/event/better-iphone-photo-class/
END:VEVENT
BEGIN:VEVENT
DTSTART;TZID=America/Los_Angeles:20250329T080000
DTEND;TZID=America/Los_Angeles:20250329T140000
DTSTAMP:20260423T174712
CREATED:20250304T234016Z
LAST-MODIFIED:20250304T234115Z
UID:1899-1743235200-1743256800@phototrainer.com
SUMMARY:Hummers Explore
DESCRIPTION:
URL:https://phototrainer.com/event/macro-flowers-explore/
END:VEVENT
END:VCALENDAR