BEGIN:VCALENDAR
VERSION:2.0
PRODID:-//PhotoTrainer - ECPv6.15.20//NONSGML v1.0//EN
CALSCALE:GREGORIAN
METHOD:PUBLISH
X-ORIGINAL-URL:https://phototrainer.com
X-WR-CALDESC:Events for PhotoTrainer
REFRESH-INTERVAL;VALUE=DURATION:PT1H
X-Robots-Tag:noindex
X-PUBLISHED-TTL:PT1H
BEGIN:VTIMEZONE
TZID:America/Los_Angeles
BEGIN:DAYLIGHT
TZOFFSETFROM:-0800
TZOFFSETTO:-0700
TZNAME:PDT
DTSTART:20240310T100000
END:DAYLIGHT
BEGIN:STANDARD
TZOFFSETFROM:-0700
TZOFFSETTO:-0800
TZNAME:PST
DTSTART:20241103T090000
END:STANDARD
BEGIN:DAYLIGHT
TZOFFSETFROM:-0800
TZOFFSETTO:-0700
TZNAME:PDT
DTSTART:20250309T100000
END:DAYLIGHT
BEGIN:STANDARD
TZOFFSETFROM:-0700
TZOFFSETTO:-0800
TZNAME:PST
DTSTART:20251102T090000
END:STANDARD
BEGIN:DAYLIGHT
TZOFFSETFROM:-0800
TZOFFSETTO:-0700
TZNAME:PDT
DTSTART:20260308T100000
END:DAYLIGHT
BEGIN:STANDARD
TZOFFSETFROM:-0700
TZOFFSETTO:-0800
TZNAME:PST
DTSTART:20261101T090000
END:STANDARD
END:VTIMEZONE
BEGIN:VEVENT
DTSTART;TZID=America/Los_Angeles:20250405T090000
DTEND;TZID=America/Los_Angeles:20250405T160000
DTSTAMP:20260423T161851
CREATED:20250304T234248Z
LAST-MODIFIED:20250304T234248Z
UID:1903-1743843600-1743868800@phototrainer.com
SUMMARY:DSLR/M Jmmpstart
DESCRIPTION:
URL:https://phototrainer.com/event/dslr-m-jmmpstart/
END:VEVENT
BEGIN:VEVENT
DTSTART;TZID=America/Los_Angeles:20250412T093000
DTEND;TZID=America/Los_Angeles:20250412T153000
DTSTAMP:20260423T161851
CREATED:20250304T234432Z
LAST-MODIFIED:20250304T234432Z
UID:1905-1744450200-1744471800@phototrainer.com
SUMMARY:Better Phone Photos!
DESCRIPTION:
URL:https://phototrainer.com/event/better-phone-photos/
END:VEVENT
BEGIN:VEVENT
DTSTART;TZID=America/Los_Angeles:20250415T090000
DTEND;TZID=America/Los_Angeles:20250415T160000
DTSTAMP:20260423T161851
CREATED:20250318T213816Z
LAST-MODIFIED:20250318T213906Z
UID:2027-1744707600-1744732800@phototrainer.com
SUMMARY:Tax Champ Special!
DESCRIPTION:
URL:https://phototrainer.com/event/tax-champ-special/
END:VEVENT
BEGIN:VEVENT
DTSTART;TZID=America/Los_Angeles:20250419T080000
DTEND;TZID=America/Los_Angeles:20250419T140000
DTSTAMP:20260423T161851
CREATED:20250304T234522Z
LAST-MODIFIED:20250304T234735Z
UID:1907-1745049600-1745071200@phototrainer.com
SUMMARY:Macro Flowers Explore
DESCRIPTION:
URL:https://phototrainer.com/event/macro-flowers-explore-2/
END:VEVENT
BEGIN:VEVENT
DTSTART;TZID=America/Los_Angeles:20250426T090000
DTEND;TZID=America/Los_Angeles:20250426T160000
DTSTAMP:20260423T161851
CREATED:20250304T234950Z
LAST-MODIFIED:20250304T235040Z
UID:1911-1745658000-1745683200@phototrainer.com
SUMMARY:DSLR/M Jumpstart
DESCRIPTION:
URL:https://phototrainer.com/event/dslr-m-jumpstart-4/
END:VEVENT
END:VCALENDAR