BEGIN:VCALENDAR
VERSION:2.0
PRODID:-//PhotoTrainer - ECPv6.15.20//NONSGML v1.0//EN
CALSCALE:GREGORIAN
METHOD:PUBLISH
X-ORIGINAL-URL:https://phototrainer.com
X-WR-CALDESC:Events for PhotoTrainer
REFRESH-INTERVAL;VALUE=DURATION:PT1H
X-Robots-Tag:noindex
X-PUBLISHED-TTL:PT1H
BEGIN:VTIMEZONE
TZID:America/Los_Angeles
BEGIN:DAYLIGHT
TZOFFSETFROM:-0800
TZOFFSETTO:-0700
TZNAME:PDT
DTSTART:20250309T100000
END:DAYLIGHT
BEGIN:STANDARD
TZOFFSETFROM:-0700
TZOFFSETTO:-0800
TZNAME:PST
DTSTART:20251102T090000
END:STANDARD
BEGIN:DAYLIGHT
TZOFFSETFROM:-0800
TZOFFSETTO:-0700
TZNAME:PDT
DTSTART:20260308T100000
END:DAYLIGHT
BEGIN:STANDARD
TZOFFSETFROM:-0700
TZOFFSETTO:-0800
TZNAME:PST
DTSTART:20261101T090000
END:STANDARD
BEGIN:DAYLIGHT
TZOFFSETFROM:-0800
TZOFFSETTO:-0700
TZNAME:PDT
DTSTART:20270314T100000
END:DAYLIGHT
BEGIN:STANDARD
TZOFFSETFROM:-0700
TZOFFSETTO:-0800
TZNAME:PST
DTSTART:20271107T090000
END:STANDARD
END:VTIMEZONE
BEGIN:VEVENT
DTSTART;TZID=America/Los_Angeles:20260103T080000
DTEND;TZID=America/Los_Angeles:20260103T170000
DTSTAMP:20260423T015948
CREATED:20250927T230236Z
LAST-MODIFIED:20250927T230236Z
UID:2471-1767427200-1767459600@phototrainer.com
SUMMARY:DSLR/Mirrorless Jumpstart
DESCRIPTION:
URL:https://phototrainer.com/event/dslr-mirrorless-jumpstart-7/
LOCATION:PT WORLD Headquarters\, 446 Poppy Place\, Mountain View\, CA\, 94043\, United States
CATEGORIES:DSLR/M Camera Jumpstart
END:VEVENT
BEGIN:VEVENT
DTSTART;TZID=America/Los_Angeles:20260110T093000
DTEND;TZID=America/Los_Angeles:20260110T163000
DTSTAMP:20260423T015948
CREATED:20250927T215821Z
LAST-MODIFIED:20250927T215821Z
UID:2432-1768037400-1768062600@phototrainer.com
SUMMARY:Better iPhone Photos
DESCRIPTION:
URL:https://phototrainer.com/event/better-iphone-photos-9/
LOCATION:PT WORLD Headquarters\, 446 Poppy Place\, Mountain View\, CA\, 94043\, United States
CATEGORIES:Better iPhone Photos
END:VEVENT
BEGIN:VEVENT
DTSTART;TZID=America/Los_Angeles:20260117T090000
DTEND;TZID=America/Los_Angeles:20260117T160000
DTSTAMP:20260423T015948
CREATED:20250927T225636Z
LAST-MODIFIED:20250927T225636Z
UID:2467-1768640400-1768665600@phototrainer.com
SUMMARY:Photographic Composition
DESCRIPTION:
URL:https://phototrainer.com/event/photographic-composition-4/
LOCATION:PT WORLD Headquarters\, 446 Poppy Place\, Mountain View\, CA\, 94043\, United States
CATEGORIES:Photographic Composition
END:VEVENT
BEGIN:VEVENT
DTSTART;TZID=America/Los_Angeles:20260124T090000
DTEND;TZID=America/Los_Angeles:20260124T160000
DTSTAMP:20260423T015948
CREATED:20250927T221741Z
LAST-MODIFIED:20250927T221852Z
UID:2445-1769245200-1769270400@phototrainer.com
SUMMARY:DSLR/Mirrorless Jumpstart
DESCRIPTION:
URL:https://phototrainer.com/event/dslr-mirrorless-jumpstart-3/
LOCATION:PT WORLD Headquarters\, 446 Poppy Place\, Mountain View\, CA\, 94043\, United States
CATEGORIES:DSLR/M Camera Jumpstart
END:VEVENT
BEGIN:VEVENT
DTSTART;TZID=America/Los_Angeles:20260131T090000
DTEND;TZID=America/Los_Angeles:20260131T163000
DTSTAMP:20260423T015948
CREATED:20250927T225437Z
LAST-MODIFIED:20250927T225437Z
UID:2465-1769850000-1769877000@phototrainer.com
SUMMARY:Learn Portraiture Lighting
DESCRIPTION:
URL:https://phototrainer.com/event/learn-portraiture-lighting-5/
LOCATION:PT WORLD Headquarters\, 446 Poppy Place\, Mountain View\, CA\, 94043\, United States
CATEGORIES:Learn Portraiture Lighting
END:VEVENT
END:VCALENDAR